BEGIN:VCALENDAR
VERSION:2.0
PRODID:-//Lydia Kimmerling - ECPv6.1.3//NONSGML v1.0//EN
CALSCALE:GREGORIAN
METHOD:PUBLISH
X-WR-CALNAME:Lydia Kimmerling
X-ORIGINAL-URL:https://lydiakimmerling.com
X-WR-CALDESC:Events for Lydia Kimmerling
REFRESH-INTERVAL;VALUE=DURATION:PT1H
X-Robots-Tag:noindex
X-PUBLISHED-TTL:PT1H
BEGIN:VTIMEZONE
TZID:UTC
BEGIN:STANDARD
TZOFFSETFROM:+0000
TZOFFSETTO:+0000
TZNAME:UTC
DTSTART:20220101T000000
END:STANDARD
END:VTIMEZONE
BEGIN:VEVENT
DTSTART;TZID=UTC:20220924T190000
DTEND;TZID=UTC:20220930T190000
DTSTAMP:20260422T234553
CREATED:20220622T142845Z
LAST-MODIFIED:20220622T142845Z
UID:9101-1664046000-1664564400@lydiakimmerling.com
SUMMARY:The Happiness Reset Live
DESCRIPTION:Are you ready to feel happier without drastically changing your life in less than 7-days?\nBUT being happier WILL drastically change YOUR life \nThis is the most uplifting\, soul-shaking 7-day online experience you can gift yourself right now. \nImagine joining a supportive group of fellow Happiness Explorers for live daily classes with Lydia that will move you so deeply to change who you are\, you take positive action that transforms your life from the inside out. \nThe Happiness Reset is a 6-step process that elevates all areas of your life to feel happier so that you take more positive action and create the success that you want to see. \nImagine seeing the life you really want to live unfold as a result of you being your happiest self\, instead of it feeling so hard all of the time. \nSaturday\, Sept 24th – Friday 30th 2022 | 7pm | Daily | Online \n  \n\nhttps://lydiakimmerling.com/wp-content/uploads/sites/1603/2022/06/THE-HAPPINESS-RESET-facebook.mp4\n  \nWhat will I learn? \nThere are six happiness blocks that rob you of the happiness that is rightfully yours. \nEach block is a fear that will secretly sabotage you from creating success in your life. \nOver 7-days you will discover the block that is strongest in your life and how after uncovering it\, it can be used to drive positive change in your life. \nI will show you how. \nIs this event for me? \nYou must be ready to challenge yourself to a new way of thinking that creates only positive outcomes. \nYou must be prepared to put the effort in – because you are worth the hard work and the effort. \nYou must want 7 days of emotionally invigorating and uplifting insights that blow your mind. \nHow do classes work? \nOnce you sign up you will be sent access to the course modules. \nThe live classes run daily at 7pm UK time for 60 minutes and all classes are recorded so if you can’t make them all\, you can watch the recording. \n  \nSEE MORE EVENT INFO HERE
URL:https://lydiakimmerling.com/event/the-happiness-reset-live/
LOCATION:Online
CATEGORIES:Live,Online
END:VEVENT
END:VCALENDAR